BEGIN:VCALENDAR
VERSION:2.0
PRODID:-//COMITATO VAL dI ZENA - ECPv6.15.20//NONSGML v1.0//EN
CALSCALE:GREGORIAN
METHOD:PUBLISH
X-WR-CALNAME:COMITATO VAL dI ZENA
X-ORIGINAL-URL:https://www.comitatovaldizena.org
X-WR-CALDESC:Eventi per COMITATO VAL dI ZENA
REFRESH-INTERVAL;VALUE=DURATION:PT1H
X-Robots-Tag:noindex
X-PUBLISHED-TTL:PT1H
BEGIN:VTIMEZONE
TZID:Europe/Helsinki
BEGIN:DAYLIGHT
TZOFFSETFROM:+0200
TZOFFSETTO:+0300
TZNAME:EEST
DTSTART:20240331T010000
END:DAYLIGHT
BEGIN:STANDARD
TZOFFSETFROM:+0300
TZOFFSETTO:+0200
TZNAME:EET
DTSTART:20241027T010000
END:STANDARD
BEGIN:DAYLIGHT
TZOFFSETFROM:+0200
TZOFFSETTO:+0300
TZNAME:EEST
DTSTART:20250330T010000
END:DAYLIGHT
BEGIN:STANDARD
TZOFFSETFROM:+0300
TZOFFSETTO:+0200
TZNAME:EET
DTSTART:20251026T010000
END:STANDARD
BEGIN:DAYLIGHT
TZOFFSETFROM:+0200
TZOFFSETTO:+0300
TZNAME:EEST
DTSTART:20260329T010000
END:DAYLIGHT
BEGIN:STANDARD
TZOFFSETFROM:+0300
TZOFFSETTO:+0200
TZNAME:EET
DTSTART:20261025T010000
END:STANDARD
END:VTIMEZONE
BEGIN:VEVENT
DTSTART;TZID=Europe/Helsinki:20250508T203000
DTEND;TZID=Europe/Helsinki:20250508T223000
DTSTAMP:20260424T024114
CREATED:20250506T185811Z
LAST-MODIFIED:20250506T185811Z
UID:486-1746736200-1746743400@www.comitatovaldizena.org
SUMMARY:Riunione del Comitato
DESCRIPTION:
URL:https://www.comitatovaldizena.org/event/riunione-del-comitato/
LOCATION:Chiesa San Lorenzo del Farneto\, Via Carlo Jussi 131\, San Lazzaro di Savena\, Bologna\, 40068\, Italy
END:VEVENT
BEGIN:VEVENT
DTSTART;TZID=Europe/Helsinki:20250416T203000
DTEND;TZID=Europe/Helsinki:20250416T223000
DTSTAMP:20260424T024114
CREATED:20250414T192852Z
LAST-MODIFIED:20250414T201738Z
UID:298-1744835400-1744842600@www.comitatovaldizena.org
SUMMARY:Incontro circolo ARCI
DESCRIPTION:incontro del 16/04/2025 \n 
URL:https://www.comitatovaldizena.org/event/incontro-circolo-arci/
LOCATION:botteghino Pianoro\, via zena 65\, pianoro\, BO\, 40065\, Italy
END:VEVENT
END:VCALENDAR