BEGIN:VCALENDAR
VERSION:2.0
PRODID:-//COMITATO VAL dI ZENA - ECPv6.15.20//NONSGML v1.0//EN
CALSCALE:GREGORIAN
METHOD:PUBLISH
X-WR-CALNAME:COMITATO VAL dI ZENA
X-ORIGINAL-URL:https://www.comitatovaldizena.org
X-WR-CALDESC:Eventi per COMITATO VAL dI ZENA
REFRESH-INTERVAL;VALUE=DURATION:PT1H
X-Robots-Tag:noindex
X-PUBLISHED-TTL:PT1H
BEGIN:VTIMEZONE
TZID:Europe/Helsinki
BEGIN:DAYLIGHT
TZOFFSETFROM:+0200
TZOFFSETTO:+0300
TZNAME:EEST
DTSTART:20250330T010000
END:DAYLIGHT
BEGIN:STANDARD
TZOFFSETFROM:+0300
TZOFFSETTO:+0200
TZNAME:EET
DTSTART:20251026T010000
END:STANDARD
BEGIN:DAYLIGHT
TZOFFSETFROM:+0200
TZOFFSETTO:+0300
TZNAME:EEST
DTSTART:20260329T010000
END:DAYLIGHT
BEGIN:STANDARD
TZOFFSETFROM:+0300
TZOFFSETTO:+0200
TZNAME:EET
DTSTART:20261025T010000
END:STANDARD
BEGIN:DAYLIGHT
TZOFFSETFROM:+0200
TZOFFSETTO:+0300
TZNAME:EEST
DTSTART:20270328T010000
END:DAYLIGHT
BEGIN:STANDARD
TZOFFSETFROM:+0300
TZOFFSETTO:+0200
TZNAME:EET
DTSTART:20271031T010000
END:STANDARD
END:VTIMEZONE
BEGIN:VEVENT
DTSTART;TZID=Europe/Helsinki:20260125T170000
DTEND;TZID=Europe/Helsinki:20260125T210000
DTSTAMP:20260423T144852
CREATED:20260113T194136Z
LAST-MODIFIED:20260113T194136Z
UID:2122-1769360400-1769374800@www.comitatovaldizena.org
SUMMARY:“Sulle ali del valzer – Un viaggio nella Vienna degli Strauss”
DESCRIPTION:Il Comitato Val di Zena è lieto di presentare il concerto \n“Sulle ali del valzer – Un viaggio nella Vienna degli Strauss” \n  \nOrchestra Giovanile di Bentivoglio \nDirettore: Maestro Emiliano Bernagozzi \n25 gennaio 2026 \nOre 17:00 \nCircolo ARCI – Sala 77 \nVia Bellaria 7\, San Lazzaro di Savena (BO) \n  \nUn concerto dal carattere festoso ed elegante\, in cui ritmo e melodia si intrecciano in un susseguirsi di colori e atmosfere danzanti. Un viaggio musicale nella Vienna degli Strauss\, capace di coinvolgere ascoltatori di ogni età e di celebrare la musica come momento di incontro\, gioia e condivisione. \n  \nL’evento si inserisce in un più ampio percorso di sensibilizzazione per la messa in sicurezza del territorio e la tutela dei suoi residenti\, con l’auspicio che la Val di Zena possa ritrovare la sua naturale bellezza e piena vivibilità. \nUn’importante occasione culturale e un segno di buon auspicio per l’anno nuovo. \n  \nVi aspettiamo!
URL:https://www.comitatovaldizena.org/event/sulle-ali-del-valzer-un-viaggio-nella-vienna-degli-strauss/
LOCATION:Pianoro sala Arcipelago\, Bologna\, Italy
ATTACH;FMTTYPE=image/jpeg:https://www.comitatovaldizena.org/wp-content/uploads/2026/01/photo_2026-01-12_10-27-37.jpg
END:VEVENT
END:VCALENDAR