BEGIN:VCALENDAR
VERSION:2.0
PRODID:-//COMITATO VAL dI ZENA - ECPv6.15.20//NONSGML v1.0//EN
CALSCALE:GREGORIAN
METHOD:PUBLISH
X-ORIGINAL-URL:https://www.comitatovaldizena.org
X-WR-CALDESC:Eventi per COMITATO VAL dI ZENA
REFRESH-INTERVAL;VALUE=DURATION:PT1H
X-Robots-Tag:noindex
X-PUBLISHED-TTL:PT1H
BEGIN:VTIMEZONE
TZID:Europe/Helsinki
BEGIN:DAYLIGHT
TZOFFSETFROM:+0200
TZOFFSETTO:+0300
TZNAME:EEST
DTSTART:20240331T010000
END:DAYLIGHT
BEGIN:STANDARD
TZOFFSETFROM:+0300
TZOFFSETTO:+0200
TZNAME:EET
DTSTART:20241027T010000
END:STANDARD
BEGIN:DAYLIGHT
TZOFFSETFROM:+0200
TZOFFSETTO:+0300
TZNAME:EEST
DTSTART:20250330T010000
END:DAYLIGHT
BEGIN:STANDARD
TZOFFSETFROM:+0300
TZOFFSETTO:+0200
TZNAME:EET
DTSTART:20251026T010000
END:STANDARD
BEGIN:DAYLIGHT
TZOFFSETFROM:+0200
TZOFFSETTO:+0300
TZNAME:EEST
DTSTART:20260329T010000
END:DAYLIGHT
BEGIN:STANDARD
TZOFFSETFROM:+0300
TZOFFSETTO:+0200
TZNAME:EET
DTSTART:20261025T010000
END:STANDARD
END:VTIMEZONE
BEGIN:VEVENT
DTSTART;TZID=Europe/Helsinki:20251220T204500
DTEND;TZID=Europe/Helsinki:20251220T224500
DTSTAMP:20260426T064321
CREATED:20251209T043136Z
LAST-MODIFIED:20251209T043136Z
UID:2054-1766263500-1766270700@www.comitatovaldizena.org
SUMMARY:Concerto di Natale per la Val di Zena
DESCRIPTION:Comitato Val di Zena\n🎄✨ Concerto di Natale per la Val di Zena ✨🎄\nIl Coro Vocalive vi invita a vivere una serata unica\, dove la magia del Natale incontra la solidarietà!\nUn evento speciale dedicato alla beneficenza a favore del Comitato Val di Zena\, che da sempre si impegna nella tutela del territorio e nel sostegno della comunità locale.\nSotto la direzione del M° Riccardo Galassi\, vi accompagneremo in un viaggio emozionante tra armonie natalizie\, tradizione e calore condiviso.\n❤️ Un concerto che scalda il cuore… e fa del bene.\n📅 20 Dicembre\n📍 Chiesa di San Disma e San Carlo – Via Seminario 2\nLocalità Mura San Carlo – San Lazzaro di Savena (BO)\n🕖 Ore 20:45\n✨ Non mancate! La vostra presenza può davvero fare la differenza.\nVi aspettiamo per celebrare insieme un Natale di musica\, emozioni e solidarietà! ✨ \n 
URL:https://www.comitatovaldizena.org/event/concerto-di-natale-per-la-val-di-zena/
LOCATION:chiesa san Disma e San Carlo\, via del seminario 2\, san lazzaro di savena\, Via del Sem8nario 2\, San Lazzaro di Savena\, 40068\, Italy
ATTACH;FMTTYPE=image/jpeg:https://www.comitatovaldizena.org/wp-content/uploads/2025/12/IMG_20251209_052019_277.jpg
END:VEVENT
END:VCALENDAR